BEGIN:VCALENDAR
VERSION:2.0
PRODID:-//Taekwondo Berlin - ECPv6.3.6//NONSGML v1.0//EN
CALSCALE:GREGORIAN
METHOD:PUBLISH
X-ORIGINAL-URL:https://taekwondo-berlin.com
X-WR-CALDESC:Veranstaltungen für Taekwondo Berlin
REFRESH-INTERVAL;VALUE=DURATION:PT1H
X-Robots-Tag:noindex
X-PUBLISHED-TTL:PT1H
BEGIN:VTIMEZONE
TZID:Europe/Berlin
BEGIN:DAYLIGHT
TZOFFSETFROM:+0100
TZOFFSETTO:+0200
TZNAME:CEST
DTSTART:20190331T010000
END:DAYLIGHT
BEGIN:STANDARD
TZOFFSETFROM:+0200
TZOFFSETTO:+0100
TZNAME:CET
DTSTART:20191027T010000
END:STANDARD
BEGIN:DAYLIGHT
TZOFFSETFROM:+0100
TZOFFSETTO:+0200
TZNAME:CEST
DTSTART:20200329T010000
END:DAYLIGHT
BEGIN:STANDARD
TZOFFSETFROM:+0200
TZOFFSETTO:+0100
TZNAME:CET
DTSTART:20201025T010000
END:STANDARD
TZID:UTC
BEGIN:STANDARD
TZOFFSETFROM:+0000
TZOFFSETTO:+0000
TZNAME:UTC
DTSTART:20180101T000000
END:STANDARD
END:VTIMEZONE
BEGIN:VEVENT
DTSTART;TZID=Europe/Berlin:20200603T170000
DTEND;TZID=Europe/Berlin:20200603T190000
DTSTAMP:20260423T135255
CREATED:20200529T153947Z
LAST-MODIFIED:20200529T155104Z
UID:1191-1591203600-1591210800@taekwondo-berlin.com
SUMMARY:we are back
DESCRIPTION:Ab Mittwoch\, 3. Juni 2020\, sind wir zurück und beginnen wieder. Es wird allerdings ein eingeschränktes Training mit Hygiene Konzept geben. Wir halten euch auf dem Laufenden.
URL:https://taekwondo-berlin.com/event/we-are-back/
LOCATION:Taekwondo-Berlin\, Lobeckstr. 36\, Berlin\, 10969\, Deutschland
CATEGORIES:sonstiges
END:VEVENT
BEGIN:VEVENT
DTSTART;VALUE=DATE:20191223
DTEND;VALUE=DATE:20200104
DTSTAMP:20260423T135255
CREATED:20190817T043934Z
LAST-MODIFIED:20190817T044522Z
UID:1116-1577059200-1578095999@taekwondo-berlin.com
SUMMARY:Winterpause 2019
DESCRIPTION:wegen Weihnachten und Neujahr ist der letzte Trainingstag der 20.12.2019. \nDas reguläre Training findet wieder am 06.01.2020 statt.
URL:https://taekwondo-berlin.com/event/winterpause-2019/
LOCATION:Taekwondo-Berlin\, Lobeckstr. 36\, Berlin\, 10969\, Deutschland
CATEGORIES:Pause
ATTACH;FMTTYPE=image/jpeg:https://taekwondo-berlin.com/wp-content/uploads/2019/08/Schneemann.jpg
END:VEVENT
BEGIN:VEVENT
DTSTART;TZID=Europe/Berlin:20191031T080000
DTEND;TZID=Europe/Berlin:20191222T170000
DTSTAMP:20260423T135255
CREATED:20190903T124133Z
LAST-MODIFIED:20190903T124648Z
UID:1163-1572508800-1577034000@taekwondo-berlin.com
SUMMARY:Studentischer-Taekwondo-Praktikant aus Korea
DESCRIPTION:Ende Oktober kommt ein Praktikant zu uns aus Korea. Er studiert dort Taekwondo und wird uns beim Training unterstützen.
URL:https://taekwondo-berlin.com/event/studentischer-taekwondo-praktikant-aus-korea/
LOCATION:Taekwondo-Berlin\, Lobeckstr. 36\, Berlin\, 10969\, Deutschland
CATEGORIES:sonstiges
ATTACH;FMTTYPE=image/jpeg:https://taekwondo-berlin.com/wp-content/uploads/2019/09/WhatsApp-Image-2019-08-29-at-22.48.28.jpeg
END:VEVENT
BEGIN:VEVENT
DTSTART;TZID=UTC:20190707T000000
DTEND;TZID=UTC:20190722T235900
DTSTAMP:20260423T135255
CREATED:20170515T075543Z
LAST-MODIFIED:20190815T013400Z
UID:348-1562457600-1563839940@taekwondo-berlin.com
SUMMARY:Korea Reise 2019
DESCRIPTION:Auch dieses Jahr heisst es wieder Taekwondo in Korea…
URL:https://taekwondo-berlin.com/event/korea-reise-2019/
LOCATION:Korea\, Seoul\, Südkorea
CATEGORIES:Reise
ATTACH;FMTTYPE=image/jpeg:https://taekwondo-berlin.com/wp-content/uploads/2017/05/events_reise_4.jpg
END:VEVENT
BEGIN:VEVENT
DTSTART;TZID=UTC:20190615T140000
DTEND;TZID=UTC:20190615T170000
DTSTAMP:20260423T135255
CREATED:20170515T072050Z
LAST-MODIFIED:20190815T015118Z
UID:333-1560607200-1560618000@taekwondo-berlin.com
SUMMARY:Gürtelprüfung Juni 2019
DESCRIPTION:Phasellus cursus nunc arcu\, eget sollicitudin mi lacinia tempus. Donec ligula turpis\, egestas at volutpat non\, pellentesque ut nibh. Aliquam varius aliquam urna\, sed bibendum leo dignissim ac. Phasellus quis leo sem. Morbi vitae congue sapien. Phasellus accumsan mi ex. Cum sociis natoque penatibus et magnis dis parturient montes\, nascetur ridiculus mus. Ut sollicitudin lacinia ex. \nInterdum et malesuada fames ac ante ipsum primis in faucibus. Donec nec felis sed magna euismod venenatis. Nulla sed varius est\, ac viverra nisl. Cras nec purus erat. Pellentesque eget molestie risus\, quis bibendum dui. Duis ornare condimentum ornare. Nulla a nulla non odio hendrerit ultricies. Vestibulum tristique quam ac nisl dapibus\, ut semper orci tincidunt. Sed sagittis eros ut pellentesque tempus. Sed in turpis ullamcorper\, fermentum mi eu\, porta dolor. Aliquam imperdiet sem metus\, vel tempor sem malesuada vel. Morbi congue dictum nisl\, in interdum dui sollicitudin.
URL:https://taekwondo-berlin.com/event/guertelpruefung-06-2019/
LOCATION:SC Kang Berlin e.V.\, Quitzowstr. 115a\, Berlin\, 10559\, Deutschland
CATEGORIES:Prüfung
ATTACH;FMTTYPE=image/jpeg:https://taekwondo-berlin.com/wp-content/uploads/2017/05/events_guertel_5c.jpg
END:VEVENT
BEGIN:VEVENT
DTSTART;TZID=UTC:20190413T080000
DTEND;TZID=UTC:20190413T180000
DTSTAMP:20260423T135255
CREATED:20170515T074130Z
LAST-MODIFIED:20190815T014305Z
UID:335-1555142400-1555178400@taekwondo-berlin.com
SUMMARY:Osterlehrgang 2019
DESCRIPTION:Phasellus cursus nunc arcu\, eget sollicitudin mi lacinia tempus. Donec ligula turpis\, egestas at volutpat non\, pellentesque ut nibh. Aliquam varius aliquam urna\, sed bibendum leo dignissim ac. Phasellus quis leo sem. Morbi vitae congue sapien. Phasellus accumsan mi ex. Cum sociis natoque penatibus et magnis dis parturient montes\, nascetur ridiculus mus. Ut sollicitudin lacinia ex. \nInterdum et malesuada fames ac ante ipsum primis in faucibus. Donec nec felis sed magna euismod venenatis. Nulla sed varius est\, ac viverra nisl. Cras nec purus erat. Pellentesque eget molestie risus\, quis bibendum dui. Duis ornare condimentum ornare. Nulla a nulla non odio hendrerit ultricies. Vestibulum tristique quam ac nisl dapibus\, ut semper orci tincidunt. Sed sagittis eros ut pellentesque tempus. Sed in turpis ullamcorper\, fermentum mi eu\, porta dolor. Aliquam imperdiet sem metus\, vel tempor sem malesuada vel. Morbi congue dictum nisl\, in interdum dui sollicitudin.
URL:https://taekwondo-berlin.com/event/osterlehrgang-2019/
LOCATION:SC Kang Berlin e.V.\, Quitzowstr. 115a\, Berlin\, 10559\, Deutschland
CATEGORIES:Seminar
ATTACH;FMTTYPE=image/jpeg:https://taekwondo-berlin.com/wp-content/uploads/2017/05/events_lehrgang_4.jpg
END:VEVENT
BEGIN:VEVENT
DTSTART;VALUE=DATE:20181124
DTEND;VALUE=DATE:20181125
DTSTAMP:20260423T135255
CREATED:20170515T074517Z
LAST-MODIFIED:20190815T014539Z
UID:342-1543017600-1543103999@taekwondo-berlin.com
SUMMARY:Kukkiwon DAN-Prüfung 2018
DESCRIPTION:Phasellus cursus nunc arcu\, eget sollicitudin mi lacinia tempus. Donec ligula turpis\, egestas at volutpat non\, pellentesque ut nibh. Aliquam varius aliquam urna\, sed bibendum leo dignissim ac. Phasellus quis leo sem. Morbi vitae congue sapien. Phasellus accumsan mi ex. Cum sociis natoque penatibus et magnis dis parturient montes\, nascetur ridiculus mus. Ut sollicitudin lacinia ex. \nInterdum et malesuada fames ac ante ipsum primis in faucibus. Donec nec felis sed magna euismod venenatis. Nulla sed varius est\, ac viverra nisl. Cras nec purus erat. Pellentesque eget molestie risus\, quis bibendum dui. Duis ornare condimentum ornare. Nulla a nulla non odio hendrerit ultricies. Vestibulum tristique quam ac nisl dapibus\, ut semper orci tincidunt. Sed sagittis eros ut pellentesque tempus. Sed in turpis ullamcorper\, fermentum mi eu\, porta dolor. Aliquam imperdiet sem metus\, vel tempor sem malesuada vel. Morbi congue dictum nisl\, in interdum dui sollicitudin.
URL:https://taekwondo-berlin.com/event/kukkiwon-dan-pruefung-2018/
LOCATION:SC Kang Berlin e.V.\, Quitzowstr. 115a\, Berlin\, 10559\, Deutschland
CATEGORIES:Prüfung
ATTACH;FMTTYPE=image/jpeg:https://taekwondo-berlin.com/wp-content/uploads/2017/05/events_dan_1.jpg
END:VEVENT
BEGIN:VEVENT
DTSTART;TZID=UTC:20180623T130000
DTEND;TZID=UTC:20180623T180000
DTSTAMP:20260423T135255
CREATED:20170515T074622Z
LAST-MODIFIED:20190815T014718Z
UID:344-1529758800-1529776800@taekwondo-berlin.com
SUMMARY:Sommerfest 2018
DESCRIPTION:Phasellus cursus nunc arcu\, eget sollicitudin mi lacinia tempus. Donec ligula turpis\, egestas at volutpat non\, pellentesque ut nibh. Aliquam varius aliquam urna\, sed bibendum leo dignissim ac. Phasellus quis leo sem. Morbi vitae congue sapien. Phasellus accumsan mi ex. Cum sociis natoque penatibus et magnis dis parturient montes\, nascetur ridiculus mus. Ut sollicitudin lacinia ex. \nInterdum et malesuada fames ac ante ipsum primis in faucibus. Donec nec felis sed magna euismod venenatis. Nulla sed varius est\, ac viverra nisl. Cras nec purus erat. Pellentesque eget molestie risus\, quis bibendum dui. Duis ornare condimentum ornare. Nulla a nulla non odio hendrerit ultricies. Vestibulum tristique quam ac nisl dapibus\, ut semper orci tincidunt. Sed sagittis eros ut pellentesque tempus. Sed in turpis ullamcorper\, fermentum mi eu\, porta dolor. Aliquam imperdiet sem metus\, vel tempor sem malesuada vel. Morbi congue dictum nisl\, in interdum dui sollicitudin.
URL:https://taekwondo-berlin.com/event/sommerfest-2018/
LOCATION:SC Kang Berlin e.V.\, Quitzowstr. 115a\, Berlin\, 10559\, Deutschland
CATEGORIES:Sonderevents
ATTACH;FMTTYPE=image/png:https://taekwondo-berlin.com/wp-content/uploads/2017/05/event-4.png
END:VEVENT
BEGIN:VEVENT
DTSTART;TZID=UTC:20180517T140000
DTEND;TZID=UTC:20180517T190000
DTSTAMP:20260423T135255
CREATED:20170515T075133Z
LAST-MODIFIED:20190815T014853Z
UID:346-1526565600-1526583600@taekwondo-berlin.com
SUMMARY:Gürtelprüfung 05/2018
DESCRIPTION:Phasellus cursus nunc arcu\, eget sollicitudin mi lacinia tempus. Donec ligula turpis\, egestas at volutpat non\, pellentesque ut nibh. Aliquam varius aliquam urna\, sed bibendum leo dignissim ac. Phasellus quis leo sem. Morbi vitae congue sapien. Phasellus accumsan mi ex. Cum sociis natoque penatibus et magnis dis parturient montes\, nascetur ridiculus mus. Ut sollicitudin lacinia ex. \nInterdum et malesuada fames ac ante ipsum primis in faucibus. Donec nec felis sed magna euismod venenatis. Nulla sed varius est\, ac viverra nisl. Cras nec purus erat. Pellentesque eget molestie risus\, quis bibendum dui. Duis ornare condimentum ornare. Nulla a nulla non odio hendrerit ultricies. Vestibulum tristique quam ac nisl dapibus\, ut semper orci tincidunt. Sed sagittis eros ut pellentesque tempus. Sed in turpis ullamcorper\, fermentum mi eu\, porta dolor. Aliquam imperdiet sem metus\, vel tempor sem malesuada vel. Morbi congue dictum nisl\, in interdum dui sollicitudin.
URL:https://taekwondo-berlin.com/event/guertelpruefung-05-2018/
LOCATION:SC Kang Berlin e.V.\, Quitzowstr. 115a\, Berlin\, 10559\, Deutschland
CATEGORIES:Prüfung
ATTACH;FMTTYPE=image/png:https://taekwondo-berlin.com/wp-content/uploads/2017/05/event-4.png
END:VEVENT
END:VCALENDAR